BEGIN:VCALENDAR
VERSION:2.0
PRODID:-//Jugendstil-Kirchsaal Nordend - ECPv6.15.20//NONSGML v1.0//EN
CALSCALE:GREGORIAN
METHOD:PUBLISH
X-WR-CALNAME:Jugendstil-Kirchsaal Nordend
X-ORIGINAL-URL:https://jugendstil-kirchsaal-nordend.de
X-WR-CALDESC:Veranstaltungen für Jugendstil-Kirchsaal Nordend
REFRESH-INTERVAL;VALUE=DURATION:PT1H
X-Robots-Tag:noindex
X-PUBLISHED-TTL:PT1H
BEGIN:VTIMEZONE
TZID:Europe/Berlin
BEGIN:DAYLIGHT
TZOFFSETFROM:+0100
TZOFFSETTO:+0200
TZNAME:CEST
DTSTART:20210328T010000
END:DAYLIGHT
BEGIN:STANDARD
TZOFFSETFROM:+0200
TZOFFSETTO:+0100
TZNAME:CET
DTSTART:20211031T010000
END:STANDARD
BEGIN:DAYLIGHT
TZOFFSETFROM:+0100
TZOFFSETTO:+0200
TZNAME:CEST
DTSTART:20220327T010000
END:DAYLIGHT
BEGIN:STANDARD
TZOFFSETFROM:+0200
TZOFFSETTO:+0100
TZNAME:CET
DTSTART:20221030T010000
END:STANDARD
BEGIN:DAYLIGHT
TZOFFSETFROM:+0100
TZOFFSETTO:+0200
TZNAME:CEST
DTSTART:20230326T010000
END:DAYLIGHT
BEGIN:STANDARD
TZOFFSETFROM:+0200
TZOFFSETTO:+0100
TZNAME:CET
DTSTART:20231029T010000
END:STANDARD
END:VTIMEZONE
BEGIN:VEVENT
DTSTART;TZID=Europe/Berlin:20220522T170000
DTEND;TZID=Europe/Berlin:20220522T170000
DTSTAMP:20260424T173824
CREATED:20220331T195928Z
LAST-MODIFIED:20220401T180230Z
UID:2781-1653238800-1653238800@jugendstil-kirchsaal-nordend.de
SUMMARY:Andreas Stichmann liest aus: Eine Liebe in Pjöngjang
DESCRIPTION:Nordkorea\, mon amour. Starke Empfindungen sind Claudia Aebischer eigentlich fremd. An der Spitze einer Delegation junger Kulturschaffender reist die Fünfzigjährige ein letztes Mal nach Pjöngjang: zur feierlichen Eröffnung der dortigen Deutschen Bibliothek. Doch schon kurz hinter der chinesischen Grenze sieht sie sich mit einer Erscheinung konfrontiert\, die eine alte Sehnsucht in ihr weckt. Eine Begegnung\, die alles neu und anders macht – gibt es das? Das Phänomen hat\, wie Claudia erfährt\, einen Namen. Sunmi ist Germanistin\, Dolmetscherin und Agentin der DVRK. \nVon seiner Reise nach Nordkorea 2017 brachte Andreas Stichmann keine literarische Reportage und kein erzählendes Sachbuch heim\, sondern die Idee zu einem Roman. «Eine Liebe in Pjöngjang» ist mehr als das\, es ist ein Abenteuer. Die unwahrscheinliche Geschichte einer Liebe zwischen zwei ungleichen Frauen\, zwei Lebensaltern\, zwei Kulturen. Ein Buch\, das sich das Fremde anverwandelt wie jemand\, der sich verliebt: schlagartig\, voller Hingabe\, geblendet vom Leuchten der eigenen Projektionen. \nDie ursprünglich geplante Lesung mit Dilek Güngör findet nicht statt! \nFoto: Daniela Imhoff
URL:https://jugendstil-kirchsaal-nordend.de/event/andreas-stichmann-liest-aus-eine-liebe-in-pjoengjang/
LOCATION:Jugendstil-Kirchsaal\, Schönhauser Str. 32\, Berlin\, 13158
CATEGORIES:Literatur in Nordend
ATTACH;FMTTYPE=image/jpeg:https://jugendstil-kirchsaal-nordend.de/wp-content/uploads/2022/03/AF_Stichmann_Andreas_006-scaled.jpg
END:VEVENT
END:VCALENDAR