BEGIN:VCALENDAR
VERSION:2.0
PRODID:-//Jugendstil-Kirchsaal Nordend - ECPv6.15.20//NONSGML v1.0//EN
CALSCALE:GREGORIAN
METHOD:PUBLISH
X-WR-CALNAME:Jugendstil-Kirchsaal Nordend
X-ORIGINAL-URL:https://jugendstil-kirchsaal-nordend.de
X-WR-CALDESC:Veranstaltungen für Jugendstil-Kirchsaal Nordend
REFRESH-INTERVAL;VALUE=DURATION:PT1H
X-Robots-Tag:noindex
X-PUBLISHED-TTL:PT1H
BEGIN:VTIMEZONE
TZID:Europe/Berlin
BEGIN:DAYLIGHT
TZOFFSETFROM:+0100
TZOFFSETTO:+0200
TZNAME:CEST
DTSTART:20190331T010000
END:DAYLIGHT
BEGIN:STANDARD
TZOFFSETFROM:+0200
TZOFFSETTO:+0100
TZNAME:CET
DTSTART:20191027T010000
END:STANDARD
BEGIN:DAYLIGHT
TZOFFSETFROM:+0100
TZOFFSETTO:+0200
TZNAME:CEST
DTSTART:20200329T010000
END:DAYLIGHT
BEGIN:STANDARD
TZOFFSETFROM:+0200
TZOFFSETTO:+0100
TZNAME:CET
DTSTART:20201025T010000
END:STANDARD
BEGIN:DAYLIGHT
TZOFFSETFROM:+0100
TZOFFSETTO:+0200
TZNAME:CEST
DTSTART:20210328T010000
END:DAYLIGHT
BEGIN:STANDARD
TZOFFSETFROM:+0200
TZOFFSETTO:+0100
TZNAME:CET
DTSTART:20211031T010000
END:STANDARD
END:VTIMEZONE
BEGIN:VEVENT
DTSTART;TZID=Europe/Berlin:20200909T200000
DTEND;TZID=Europe/Berlin:20200909T200000
DTSTAMP:20260426T004522
CREATED:20200826T122819Z
LAST-MODIFIED:20200826T130237Z
UID:2008-1599681600-1599681600@jugendstil-kirchsaal-nordend.de
SUMMARY:Erwin Berner liest aus "Zu einer anderen Zeit\, in einem anderen Land"
DESCRIPTION:Für die Wiederaufnahme unserer Lesungen haben wir uns mit der Buchhandlung Chaiselongue zusammengetan\, denn aus Abstandsgeboten können auch Gemeinsamkeiten entstehen! Wir freuen uns sehr\, wieder gemeinsam mit Ihnen Literatur zu erleben\, im Großen Saal mit viel Platz und viel Vergnügen! \nDen Anfang macht Erwin Berner. Der Schauspieler ist der Sohn von Eva und Erwin Strittmatter\, doch um die Familiengeschichte geht es nicht in seinem autobiographischen Buch „Zu einer anderen Zeit\, in einem anderen Land“\, sondern um sein Leben in Berlin-Friedrichshain vor und nach der Wende. \n1975 zieht er in die Schreinerstraße. Hier wird er sein Leben verbringen\, Erfolge feiern\, sein Coming Out erleben\, aber auch die Brüche der Wende und Nachwendezeit erfahren. Geht er heute durch die Straßen\, tritt er in seine Wohnung\, so erinnert ihn alles an das\, was war und nicht mehr ist\, verschwunden im Strudel einer neuen Zeit. Schreibend wird er zum literarischen Chronisten einer anderen Welt und erobert sich den Boden\, der ihm nach der Wende in Berlin unter den Füßen weggezogen wurde\, zurück. Es sind Bilder einer Stadt und eines Lebens\, die in der Erinnerung Gestalt annehmen und sich wie ein Schattenspiel über die Oberfläche des Hier und Jetzt schieben. Mit seiner Biografie schreibt sich Erwin Berner eindringlich in die Veränderungen einer Stadtlandschaft ein. \nBitte beachten Sie: Eintrittskarten bekommen Sie in der Buchhandlung Chaiselongue\, Dietzgenstr. 68\, 13156 Berlin\, Tel. 030/45611131. Beschränkte Platzanzahl\, Restkarten am Einlass. Es gelten die bestehenden Hygiene- und Abstandsregeln\, bitte bringen Sie einen Mund-Nasen-Schutz für den Ein- und Ausgang mit. Am Platz darf der Mund-Nasen-Schutz abgenommen werden.
URL:https://jugendstil-kirchsaal-nordend.de/event/erwin-berner-liest-aus-zu-einer-anderen-zeit-in-einem-anderen-land/
LOCATION:Jugendstil-Kirchsaal\, Schönhauser Str. 32\, Berlin\, 13158
CATEGORIES:Literatur in Nordend
ATTACH;FMTTYPE=image/jpeg:https://jugendstil-kirchsaal-nordend.de/wp-content/uploads/2020/08/berner-erwin_portrait-e1598444577998.jpg
END:VEVENT
END:VCALENDAR