BEGIN:VCALENDAR
VERSION:2.0
PRODID:-//Jugendstil-Kirchsaal Nordend - ECPv6.15.20//NONSGML v1.0//EN
CALSCALE:GREGORIAN
METHOD:PUBLISH
X-ORIGINAL-URL:https://jugendstil-kirchsaal-nordend.de
X-WR-CALDESC:Veranstaltungen für Jugendstil-Kirchsaal Nordend
REFRESH-INTERVAL;VALUE=DURATION:PT1H
X-Robots-Tag:noindex
X-PUBLISHED-TTL:PT1H
BEGIN:VTIMEZONE
TZID:Europe/Berlin
BEGIN:DAYLIGHT
TZOFFSETFROM:+0100
TZOFFSETTO:+0200
TZNAME:CEST
DTSTART:20210328T010000
END:DAYLIGHT
BEGIN:STANDARD
TZOFFSETFROM:+0200
TZOFFSETTO:+0100
TZNAME:CET
DTSTART:20211031T010000
END:STANDARD
BEGIN:DAYLIGHT
TZOFFSETFROM:+0100
TZOFFSETTO:+0200
TZNAME:CEST
DTSTART:20220327T010000
END:DAYLIGHT
BEGIN:STANDARD
TZOFFSETFROM:+0200
TZOFFSETTO:+0100
TZNAME:CET
DTSTART:20221030T010000
END:STANDARD
BEGIN:DAYLIGHT
TZOFFSETFROM:+0100
TZOFFSETTO:+0200
TZNAME:CEST
DTSTART:20230326T010000
END:DAYLIGHT
BEGIN:STANDARD
TZOFFSETFROM:+0200
TZOFFSETTO:+0100
TZNAME:CET
DTSTART:20231029T010000
END:STANDARD
END:VTIMEZONE
BEGIN:VEVENT
DTSTART;TZID=Europe/Berlin:20220612T170000
DTEND;TZID=Europe/Berlin:20220612T170000
DTSTAMP:20260422T192543
CREATED:20220401T175842Z
LAST-MODIFIED:20220401T180305Z
UID:2786-1655053200-1655053200@jugendstil-kirchsaal-nordend.de
SUMMARY:Katharina Döbler liest aus: Dein Reich komme
DESCRIPTION:Für Katharina Döbler standen ihre Großeltern immer auf der falschen Seite: Sie waren Kolonialisten\, deren Wege sich in der exotischen Welt Neuguineas kreuzten. Vier eigensinnige junge Menschen\, Weiße\, fromm und ahnungslos. Sie zogen als abenteuerlustige Missionare aus\, um die Heiden im „Kaiser-Wilhelmsland“ zu bekehren. \nEin ungewöhnlicher Familienroman über ein verschwiegenes Kapitel deutscher Geschichte: die Beziehung zwischen christlichem Sendungsbewusstsein\, Kolonialismus und Rassismus. Klug und mit feinem Humor zeichnet die Erzählerin des Romans nach\, wie die große Weltgeschichte über das kleine Leben der Familie hinwegfegt. \nFoto: Hans Scherhaufer
URL:https://jugendstil-kirchsaal-nordend.de/event/katharina-doebler-liest-aus-dein-reich-komme/
LOCATION:Jugendstil-Kirchsaal\, Schönhauser Str. 32\, Berlin\, 13158
CATEGORIES:Literatur in Nordend
ATTACH;FMTTYPE=image/jpeg:https://jugendstil-kirchsaal-nordend.de/wp-content/uploads/2022/03/katharina_doebler_c_Hans_Scherhaufer-scaled.jpg
END:VEVENT
END:VCALENDAR