BEGIN:VCALENDAR
VERSION:2.0
PRODID:-//Jugendstil-Kirchsaal Nordend - ECPv6.15.20//NONSGML v1.0//EN
CALSCALE:GREGORIAN
METHOD:PUBLISH
X-ORIGINAL-URL:https://jugendstil-kirchsaal-nordend.de
X-WR-CALDESC:Veranstaltungen für Jugendstil-Kirchsaal Nordend
REFRESH-INTERVAL;VALUE=DURATION:PT1H
X-Robots-Tag:noindex
X-PUBLISHED-TTL:PT1H
BEGIN:VTIMEZONE
TZID:Europe/Berlin
BEGIN:DAYLIGHT
TZOFFSETFROM:+0100
TZOFFSETTO:+0200
TZNAME:CEST
DTSTART:20190331T010000
END:DAYLIGHT
BEGIN:STANDARD
TZOFFSETFROM:+0200
TZOFFSETTO:+0100
TZNAME:CET
DTSTART:20191027T010000
END:STANDARD
BEGIN:DAYLIGHT
TZOFFSETFROM:+0100
TZOFFSETTO:+0200
TZNAME:CEST
DTSTART:20200329T010000
END:DAYLIGHT
BEGIN:STANDARD
TZOFFSETFROM:+0200
TZOFFSETTO:+0100
TZNAME:CET
DTSTART:20201025T010000
END:STANDARD
BEGIN:DAYLIGHT
TZOFFSETFROM:+0100
TZOFFSETTO:+0200
TZNAME:CEST
DTSTART:20210328T010000
END:DAYLIGHT
BEGIN:STANDARD
TZOFFSETFROM:+0200
TZOFFSETTO:+0100
TZNAME:CET
DTSTART:20211031T010000
END:STANDARD
END:VTIMEZONE
BEGIN:VEVENT
DTSTART;TZID=Europe/Berlin:20200426T170000
DTEND;TZID=Europe/Berlin:20200426T170000
DTSTAMP:20260424T090329
CREATED:20200116T201458Z
LAST-MODIFIED:20200413T114235Z
UID:1574-1587920400-1587920400@jugendstil-kirchsaal-nordend.de
SUMMARY:Entfällt: Autorenlesung: Jana Simon: Unter Druck
DESCRIPTION:Die deutsche Wirtschaft wächst\, Deutschland wird für seine Kraft\, Stabilität und Weltoffenheit gelobt. Zugleich schrumpft die Mittelschicht\, Reichtum ist ungleich verteilt. Jeder sechste Deutsche ist armutsgefährdet\, die sozialen Aufstiegschancen sind gering.\nEin großer Teil der Deutschen steht unter erheblichem Druck. Was bedeutet das für das Leben Einzelner und für das ganze Land? Anhand verschiedener Lebensgeschichten zeichnet die Journalistin Jana Simon ein differenziertes Bild Deutschlands\, das die politische\, soziale und wirtschaftliche Wucht der Veränderungen eindrücklich wiedergibt. Einige Protagonisten in ihrem Buch\, einer Langzeitreportage über\nfünf Jahre\, sind: der frühere EZB-Direktor Jörg Asmussen\, der jetzt Investmentbanker ist; ein Polizist aus Thüringen; eine alleinerziehende Kranken-\nschwester; eine „Influencerin“ und der AfD-Vorsitzende Alexander Gauland. \nJana Simon\, geboren 1972\, ist seit 2004 Autorin bei der Zeit. Sie hat zahlreiche Journalistenpreise gewonnen (Theodor-Wolff-Preis\, Axel-Springer-Preis\, Deutscher Reporterpreis) und lebt mit ihrer Familie in Berlin. \nFotorechte: Frank Rothe
URL:https://jugendstil-kirchsaal-nordend.de/event/autorenlesung-jana-simon-unter-druck/
LOCATION:Jugendstil-Kirchsaal\, Schönhauser Str. 32\, Berlin\, 13158
CATEGORIES:Literatur in Nordend
ATTACH;FMTTYPE=image/jpeg:https://jugendstil-kirchsaal-nordend.de/wp-content/uploads/2020/01/AF_Simon_Jana__3063_Druck.jpg
END:VEVENT
END:VCALENDAR